BEGIN:VCALENDAR
VERSION:2.0
PRODID:-//GRÜNE Linth - ECPv6.15.20//NONSGML v1.0//EN
CALSCALE:GREGORIAN
METHOD:PUBLISH
X-WR-CALNAME:GRÜNE Linth
X-ORIGINAL-URL:https://gruene-linth.ch
X-WR-CALDESC:Veranstaltungen für GRÜNE Linth
REFRESH-INTERVAL;VALUE=DURATION:PT1H
X-Robots-Tag:noindex
X-PUBLISHED-TTL:PT1H
BEGIN:VTIMEZONE
TZID:Europe/Zurich
BEGIN:DAYLIGHT
TZOFFSETFROM:+0100
TZOFFSETTO:+0200
TZNAME:CEST
DTSTART:20250330T010000
END:DAYLIGHT
BEGIN:STANDARD
TZOFFSETFROM:+0200
TZOFFSETTO:+0100
TZNAME:CET
DTSTART:20251026T010000
END:STANDARD
BEGIN:DAYLIGHT
TZOFFSETFROM:+0100
TZOFFSETTO:+0200
TZNAME:CEST
DTSTART:20260329T010000
END:DAYLIGHT
BEGIN:STANDARD
TZOFFSETFROM:+0200
TZOFFSETTO:+0100
TZNAME:CET
DTSTART:20261025T010000
END:STANDARD
BEGIN:DAYLIGHT
TZOFFSETFROM:+0100
TZOFFSETTO:+0200
TZNAME:CEST
DTSTART:20270328T010000
END:DAYLIGHT
BEGIN:STANDARD
TZOFFSETFROM:+0200
TZOFFSETTO:+0100
TZNAME:CET
DTSTART:20271031T010000
END:STANDARD
END:VTIMEZONE
BEGIN:VEVENT
DTSTART;TZID=Europe/Zurich:20260429T171000
DTEND;TZID=Europe/Zurich:20260429T183000
DTSTAMP:20260421T154626
CREATED:20260421T095728Z
LAST-MODIFIED:20260421T095832Z
UID:9300-1777482600-1777487400@gruene-linth.ch
SUMMARY:Henrik Nordborg spricht zum Projekt Hoffnung
DESCRIPTION:
URL:https://gruene-linth.ch/anlass/henrik-nordborg-spricht-zum-projekt-hoffnung/
LOCATION:OST Hörsaal 3.008\, Oberseestrasse 10\, Rapperswil\, 8640
CATEGORIES:öffentlich Linth,öffentlich RJ,Veranstaltungen Linth,Veranstaltungen RJ
END:VEVENT
END:VCALENDAR